Package: GRENITS Version: 1.58.0 Command: /Library/Frameworks/R.framework/Resources/bin/R CMD check --install=check:GRENITS.install-out.txt --library=/Library/Frameworks/R.framework/Resources/library --no-vignettes --timings GRENITS_1.58.0.tar.gz StartedAt: 2025-02-04 04:40:30 -0500 (Tue, 04 Feb 2025) EndedAt: 2025-02-04 04:47:50 -0500 (Tue, 04 Feb 2025) EllapsedTime: 439.8 seconds RetCode: 0 Status: OK CheckDir: GRENITS.Rcheck Warnings: 0