Package: GRENITS Version: 1.58.0 Command: /Library/Frameworks/R.framework/Resources/bin/R CMD INSTALL GRENITS StartedAt: 2025-02-03 15:25:55 -0500 (Mon, 03 Feb 2025) EndedAt: 2025-02-03 15:28:38 -0500 (Mon, 03 Feb 2025) EllapsedTime: 163.7 seconds RetCode: 0 Status: OK