Package: GRaNIE
Version: 1.10.0
Maintainer: Christian Arnold
MaintainerEmail: chrarnold at web.de
git_url: https://git.bioconductor.org/packages/GRaNIE
git_branch: RELEASE_3_20
git_last_commit: 22b61ee
git_last_commit_date: 2024-10-29 11:11:39 -0500 (Tue, 29 Oct 2024)