##############################################################################
##############################################################################
###
### Running command:
###
###   /Library/Frameworks/R.framework/Resources/bin/R CMD build --keep-empty-dirs --no-resave-data GRaNIE
###
##############################################################################
##############################################################################


* checking for file ‘GRaNIE/DESCRIPTION’ ... OK
* preparing ‘GRaNIE’:
* checking DESCRIPTION meta-information ... OK
* installing the package to build vignettes
* creating vignettes ... OK
* checking for LF line-endings in source and make files and shell scripts
* checking for empty or unneeded directories
WARNING: directory ‘GRaNIE/man/figures’ is empty
Omitted ‘LazyData’ from DESCRIPTION
* building ‘GRaNIE_1.10.0.tar.gz’