Package: GRaNIE Version: 1.10.0 Command: rm -rf GRaNIE.buildbin-libdir && mkdir GRaNIE.buildbin-libdir && F:\biocbuild\bbs-3.20-bioc\R\bin\R.exe CMD INSTALL --build --library=GRaNIE.buildbin-libdir GRaNIE_1.10.0.tar.gz StartedAt: 2025-02-04 08:39:06 -0500 (Tue, 04 Feb 2025) EndedAt: 2025-02-04 08:40:22 -0500 (Tue, 04 Feb 2025) EllapsedTime: 75.7 seconds RetCode: 0 Status: OK PackageFile: GRaNIE_1.10.0.zip PackageFileSize: 4.659 MiB