Package: GRaNIE Version: 1.10.0 Command: F:\biocbuild\bbs-3.20-bioc\R\bin\R.exe CMD INSTALL GRaNIE StartedAt: 2025-02-03 16:39:59 -0500 (Mon, 03 Feb 2025) EndedAt: 2025-02-03 16:41:13 -0500 (Mon, 03 Feb 2025) EllapsedTime: 74.0 seconds RetCode: 0 Status: OK