Package: GRaNIE Version: 1.10.0 Command: /home/biocbuild/R/R/bin/R CMD build --keep-empty-dirs --no-resave-data GRaNIE StartedAt: 2025-02-04 00:05:13 -0000 (Tue, 04 Feb 2025) EndedAt: 2025-02-04 00:11:01 -0000 (Tue, 04 Feb 2025) EllapsedTime: 348.2 seconds RetCode: 0 Status: OK PackageFile: GRaNIE_1.10.0.tar.gz PackageFileSize: 4.13 MiB