Package: GRmetrics Version: 1.32.0 Command: /Library/Frameworks/R.framework/Resources/bin/R CMD build --keep-empty-dirs --no-resave-data GRmetrics StartedAt: 2025-02-04 00:59:09 -0500 (Tue, 04 Feb 2025) EndedAt: 2025-02-04 01:00:08 -0500 (Tue, 04 Feb 2025) EllapsedTime: 58.6 seconds RetCode: 0 Status: OK PackageFile: GRmetrics_1.32.0.tar.gz PackageFileSize: 1.938 MiB