Package: GRmetrics Version: 1.32.0 Command: /Library/Frameworks/R.framework/Resources/bin/R CMD check --install=check:GRmetrics.install-out.txt --library=/Library/Frameworks/R.framework/Resources/library --no-vignettes --timings GRmetrics_1.32.0.tar.gz StartedAt: 2025-01-31 21:23:37 -0500 (Fri, 31 Jan 2025) EndedAt: 2025-01-31 21:25:50 -0500 (Fri, 31 Jan 2025) EllapsedTime: 133.3 seconds RetCode: 0 Status: OK CheckDir: GRmetrics.Rcheck Warnings: 0