Package: GRmetrics Version: 1.32.0 Command: /home/biocbuild/bbs-3.20-bioc/R/bin/R CMD build --keep-empty-dirs --no-resave-data --md5 GRmetrics StartedAt: 2025-01-30 17:32:02 -0500 (Thu, 30 Jan 2025) EndedAt: 2025-01-30 17:32:46 -0500 (Thu, 30 Jan 2025) EllapsedTime: 44.0 seconds RetCode: 0 Status: OK PackageFile: GRmetrics_1.32.0.tar.gz PackageFileSize: 1.909 MiB