Package: GRmetrics Version: 1.32.0 Command: /home/biocbuild/R/R/bin/R CMD build --keep-empty-dirs --no-resave-data GRmetrics StartedAt: 2025-01-31 00:07:42 -0000 (Fri, 31 Jan 2025) EndedAt: 2025-01-31 00:08:39 -0000 (Fri, 31 Jan 2025) EllapsedTime: 57.0 seconds RetCode: 0 Status: OK PackageFile: GRmetrics_1.32.0.tar.gz PackageFileSize: 2.245 MiB