Package: GRmetrics Version: 1.32.0 Command: /home/biocbuild/R/R/bin/R CMD check --install=check:GRmetrics.install-out.txt --library=/home/biocbuild/R/R/site-library --no-vignettes --timings GRmetrics_1.32.0.tar.gz StartedAt: 2025-01-31 06:56:39 -0000 (Fri, 31 Jan 2025) EndedAt: 2025-01-31 06:59:06 -0000 (Fri, 31 Jan 2025) EllapsedTime: 147.1 seconds RetCode: 0 Status: OK CheckDir: GRmetrics.Rcheck Warnings: 0