Package: GSALightning
Version: 1.34.0
Command: rm -rf GSALightning.buildbin-libdir && mkdir GSALightning.buildbin-libdir && /Users/biocbuild/BBS/utils/build-universal.sh GSALightning_1.34.0.tar.gz /Library/Frameworks/R.framework/Resources/bin/R GSALightning.buildbin-libdir
StartedAt: 2024-11-09 16:52:43 -0500 (Sat, 09 Nov 2024)
EndedAt: 2024-11-09 16:52:46 -0500 (Sat, 09 Nov 2024)
EllapsedTime: 3.1 seconds
RetCode: 0
Status: OK
PackageFile: GSALightning_1.34.0.tgz
PackageFileSize: 4.308 <A href="http://en.wikipedia.org/wiki/MiB" target="_blank">MiB</A>