Package: GSALightning Version: 1.34.0 Command: /home/biocbuild/bbs-3.20-bioc/R/bin/R CMD build --keep-empty-dirs --no-resave-data --md5 GSALightning StartedAt: 2025-02-03 17:42:14 -0500 (Mon, 03 Feb 2025) EndedAt: 2025-02-03 17:43:14 -0500 (Mon, 03 Feb 2025) EllapsedTime: 60.0 seconds RetCode: 0 Status: OK PackageFile: GSALightning_1.34.0.tar.gz PackageFileSize: 4.258 MiB