Package: GSALightning Version: 1.34.0 Command: /home/biocbuild/bbs-3.20-bioc/R/bin/R CMD check --install=check:GSALightning.install-out.txt --library=/home/biocbuild/bbs-3.20-bioc/R/site-library --timings GSALightning_1.34.0.tar.gz StartedAt: 2025-02-03 22:59:21 -0500 (Mon, 03 Feb 2025) EndedAt: 2025-02-03 23:00:57 -0500 (Mon, 03 Feb 2025) EllapsedTime: 96.1 seconds RetCode: 0 Status: OK CheckDir: GSALightning.Rcheck Warnings: 0