Package: GSALightning Version: 1.34.0 Command: /home/biocbuild/bbs-3.20-bioc/R/bin/R CMD INSTALL GSALightning StartedAt: 2025-02-03 15:13:58 -0500 (Mon, 03 Feb 2025) EndedAt: 2025-02-03 15:14:13 -0500 (Mon, 03 Feb 2025) EllapsedTime: 15.8 seconds RetCode: 0 Status: OK