Package: GSALightning Version: 1.34.0 Command: F:\biocbuild\bbs-3.20-bioc\R\bin\R.exe CMD INSTALL GSALightning StartedAt: 2025-02-03 15:32:26 -0500 (Mon, 03 Feb 2025) EndedAt: 2025-02-03 15:32:57 -0500 (Mon, 03 Feb 2025) EllapsedTime: 31.4 seconds RetCode: 0 Status: OK