Package: GSAR Version: 1.40.0 Command: /Library/Frameworks/R.framework/Resources/bin/R CMD INSTALL GSAR StartedAt: 2025-02-03 15:13:53 -0500 (Mon, 03 Feb 2025) EndedAt: 2025-02-03 15:13:59 -0500 (Mon, 03 Feb 2025) EllapsedTime: 5.5 seconds RetCode: 0 Status: OK