Package: GSAR Version: 1.40.0 Command: /Library/Frameworks/R.framework/Resources/bin/R CMD build --keep-empty-dirs --no-resave-data GSAR StartedAt: 2025-02-03 19:25:25 -0500 (Mon, 03 Feb 2025) EndedAt: 2025-02-03 19:35:05 -0500 (Mon, 03 Feb 2025) EllapsedTime: 580.3 seconds RetCode: 0 Status: OK PackageFile: GSAR_1.40.0.tar.gz PackageFileSize: 1.777 MiB