Package: GSAR Version: 1.40.0 Command: /Library/Frameworks/R.framework/Resources/bin/R CMD check --install=check:GSAR.install-out.txt --library=/Library/Frameworks/R.framework/Resources/library --no-vignettes --timings GSAR_1.40.0.tar.gz StartedAt: 2025-02-04 04:41:31 -0500 (Tue, 04 Feb 2025) EndedAt: 2025-02-04 04:42:58 -0500 (Tue, 04 Feb 2025) EllapsedTime: 86.5 seconds RetCode: 0 Status: OK CheckDir: GSAR.Rcheck Warnings: 0