Package: GSAR
Version: 1.39.0
Command: chmod a+r GSAR -R && F:\biocbuild\bbs-3.20-bioc\R\bin\R.exe CMD build --keep-empty-dirs --no-resave-data GSAR
StartedAt: 2024-06-09 19:28:15 -0400 (Sun, 09 Jun 2024)
EndedAt: 2024-06-09 19:33:45 -0400 (Sun, 09 Jun 2024)
EllapsedTime: 329.4 seconds
RetCode: 0
Status: OK
PackageFile: GSAR_1.39.0.tar.gz
PackageFileSize: 2.089 <A href="http://en.wikipedia.org/wiki/MiB" target="_blank">MiB</A>