Package: GSAR
Version: 1.40.0
Command: chmod a+r GSAR -R && F:\biocbuild\bbs-3.20-bioc\R\bin\R.exe CMD build --keep-empty-dirs --no-resave-data GSAR
StartedAt: 2025-02-17 19:23:00 -0500 (Mon, 17 Feb 2025)
EndedAt: 2025-02-17 19:28:54 -0500 (Mon, 17 Feb 2025)
EllapsedTime: 353.8 seconds
RetCode: 0
Status: OK
PackageFile: GSAR_1.40.0.tar.gz
PackageFileSize: 1.658 <A href="http://en.wikipedia.org/wiki/MiB" target="_blank">MiB</A>