Package: GSAR Version: 1.40.0 Command: /home/biocbuild/R/R/bin/R CMD build --keep-empty-dirs --no-resave-data GSAR StartedAt: 2025-02-04 00:08:26 -0000 (Tue, 04 Feb 2025) EndedAt: 2025-02-04 00:15:19 -0000 (Tue, 04 Feb 2025) EllapsedTime: 413.4 seconds RetCode: 0 Status: OK PackageFile: GSAR_1.40.0.tar.gz PackageFileSize: 1.765 MiB