Package: GSAR Version: 1.40.0 Command: /home/biocbuild/R/R/bin/R CMD check --install=check:GSAR.install-out.txt --library=/home/biocbuild/R/R/site-library --no-vignettes --timings GSAR_1.40.0.tar.gz StartedAt: 2025-02-04 07:39:14 -0000 (Tue, 04 Feb 2025) EndedAt: 2025-02-04 07:39:58 -0000 (Tue, 04 Feb 2025) EllapsedTime: 44.0 seconds RetCode: 0 Status: OK CheckDir: GSAR.Rcheck Warnings: 0