Package: GSEABase Version: 1.68.0 Command: /Library/Frameworks/R.framework/Resources/bin/R CMD build --keep-empty-dirs --no-resave-data GSEABase StartedAt: 2025-02-03 19:26:08 -0500 (Mon, 03 Feb 2025) EndedAt: 2025-02-03 19:29:04 -0500 (Mon, 03 Feb 2025) EllapsedTime: 175.7 seconds RetCode: 0 Status: OK PackageFile: GSEABase_1.68.0.tar.gz PackageFileSize: 292.5 KiB