Package: GSEABase
Version: 1.68.0
Command: chmod a+r GSEABase -R && F:\biocbuild\bbs-3.20-bioc\R\bin\R.exe CMD build --keep-empty-dirs --no-resave-data GSEABase
StartedAt: 2025-02-17 19:23:14 -0500 (Mon, 17 Feb 2025)
EndedAt: 2025-02-17 19:25:07 -0500 (Mon, 17 Feb 2025)
EllapsedTime: 113.8 seconds
RetCode: 0
Status: OK
PackageFile: GSEABase_1.68.0.tar.gz
PackageFileSize: 292.8 <A href="http://en.wikipedia.org/wiki/KiB" target="_blank">KiB</A>