Package: GSEABase Version: 1.68.0 Command: /home/biocbuild/R/R/bin/R CMD build --keep-empty-dirs --no-resave-data GSEABase StartedAt: 2025-02-04 00:08:50 -0000 (Tue, 04 Feb 2025) EndedAt: 2025-02-04 00:10:17 -0000 (Tue, 04 Feb 2025) EllapsedTime: 87.1 seconds RetCode: 0 Status: OK PackageFile: GSEABase_1.68.0.tar.gz PackageFileSize: 317.5 KiB