Package: GSEABenchmarkeR Version: 1.26.0 Command: rm -rf GSEABenchmarkeR.buildbin-libdir && mkdir GSEABenchmarkeR.buildbin-libdir && /Users/biocbuild/BBS/utils/build-universal.sh GSEABenchmarkeR_1.26.0.tar.gz /Library/Frameworks/R.framework/Resources/bin/R GSEABenchmarkeR.buildbin-libdir StartedAt: 2025-02-05 16:08:45 -0500 (Wed, 05 Feb 2025) EndedAt: 2025-02-05 16:09:12 -0500 (Wed, 05 Feb 2025) EllapsedTime: 27.0 seconds RetCode: 0 Status: OK PackageFile: GSEABenchmarkeR_1.26.0.tgz PackageFileSize: 680.7 KiB