Package: GSEABenchmarkeR Version: 1.26.0 Command: /Library/Frameworks/R.framework/Resources/bin/R CMD build --keep-empty-dirs --no-resave-data GSEABenchmarkeR StartedAt: 2025-02-18 01:08:44 -0500 (Tue, 18 Feb 2025) EndedAt: 2025-02-18 01:11:32 -0500 (Tue, 18 Feb 2025) EllapsedTime: 168.2 seconds RetCode: 0 Status: OK PackageFile: GSEABenchmarkeR_1.26.0.tar.gz PackageFileSize: 573.2 <A href="http://en.wikipedia.org/wiki/KiB" target="_blank">KiB</A>