Package: GSEABenchmarkeR Version: 1.26.0 Command: /Library/Frameworks/R.framework/Resources/bin/R CMD build --keep-empty-dirs --no-resave-data GSEABenchmarkeR StartedAt: 2025-02-03 19:26:14 -0500 (Mon, 03 Feb 2025) EndedAt: 2025-02-03 19:30:30 -0500 (Mon, 03 Feb 2025) EllapsedTime: 256.9 seconds RetCode: 0 Status: OK PackageFile: GSEABenchmarkeR_1.26.0.tar.gz PackageFileSize: 567 KiB