Package: GSEABenchmarkeR Version: 1.26.0 Command: rm -rf GSEABenchmarkeR.buildbin-libdir && mkdir GSEABenchmarkeR.buildbin-libdir && F:\biocbuild\bbs-3.20-bioc\R\bin\R.exe CMD INSTALL --build --library=GSEABenchmarkeR.buildbin-libdir GSEABenchmarkeR_1.26.0.tar.gz StartedAt: 2025-02-04 08:39:51 -0500 (Tue, 04 Feb 2025) EndedAt: 2025-02-04 08:41:53 -0500 (Tue, 04 Feb 2025) EllapsedTime: 122.0 seconds RetCode: 0 Status: OK PackageFile: GSEABenchmarkeR_1.26.0.zip PackageFileSize: 630.4 KiB