Package: GSEAlm
Version: 1.66.0
Command: /home/biocbuild/R/R/bin/R CMD check --install=check:GSEAlm.install-out.txt --library=/home/biocbuild/R/R/site-library --no-vignettes --timings GSEAlm_1.66.0.tar.gz
StartedAt: 2024-11-20 08:35:22 -0000 (Wed, 20 Nov 2024)
EndedAt: 2024-11-20 08:35:53 -0000 (Wed, 20 Nov 2024)
EllapsedTime: 31.0 seconds
RetCode: 0
Status: OK
CheckDir: GSEAlm.Rcheck
Warnings: 0