Package: GSEAlm Version: 1.66.0 Command: /Library/Frameworks/R.framework/Resources/bin/R CMD INSTALL GSEAlm StartedAt: 2025-02-03 15:12:58 -0500 (Mon, 03 Feb 2025) EndedAt: 2025-02-03 15:13:06 -0500 (Mon, 03 Feb 2025) EllapsedTime: 8.0 seconds RetCode: 0 Status: OK