Package: GSEAmining Version: 1.16.0 Command: /home/biocbuild/bbs-3.20-bioc/R/bin/R CMD build --keep-empty-dirs --no-resave-data --md5 GSEAmining StartedAt: 2025-02-03 17:43:14 -0500 (Mon, 03 Feb 2025) EndedAt: 2025-02-03 17:43:59 -0500 (Mon, 03 Feb 2025) EllapsedTime: 45.0 seconds RetCode: 0 Status: OK PackageFile: GSEAmining_1.16.0.tar.gz PackageFileSize: 2.816 MiB