Package: GSEAmining Version: 1.16.0 Command: /home/biocbuild/R/R/bin/R CMD INSTALL GSEAmining StartedAt: 2025-02-03 20:32:31 -0000 (Mon, 03 Feb 2025) EndedAt: 2025-02-03 20:32:40 -0000 (Mon, 03 Feb 2025) EllapsedTime: 8.8 seconds RetCode: 0 Status: OK