Package: GSRI
Version: 2.54.0
Command: /Library/Frameworks/R.framework/Resources/bin/R CMD INSTALL GSRI
StartedAt: 2024-11-08 15:38:11 -0500 (Fri, 08 Nov 2024)
EndedAt: 2024-11-08 15:38:18 -0500 (Fri, 08 Nov 2024)
EllapsedTime: 7.5 seconds
RetCode: 0
Status: OK