Package: GSRI Version: 2.54.0 Command: /home/biocbuild/bbs-3.20-bioc/R/bin/R CMD build --keep-empty-dirs --no-resave-data --md5 GSRI StartedAt: 2025-02-03 17:43:49 -0500 (Mon, 03 Feb 2025) EndedAt: 2025-02-03 17:44:26 -0500 (Mon, 03 Feb 2025) EllapsedTime: 37.0 seconds RetCode: 0 Status: OK PackageFile: GSRI_2.54.0.tar.gz PackageFileSize: 339.8 KiB