Package: GSRI Version: 2.54.0 Command: rm -rf GSRI.buildbin-libdir && mkdir GSRI.buildbin-libdir && F:\biocbuild\bbs-3.20-bioc\R\bin\R.exe CMD INSTALL --build --library=GSRI.buildbin-libdir GSRI_2.54.0.tar.gz StartedAt: 2025-02-04 08:40:03 -0500 (Tue, 04 Feb 2025) EndedAt: 2025-02-04 08:40:34 -0500 (Tue, 04 Feb 2025) EllapsedTime: 31.4 seconds RetCode: 0 Status: OK PackageFile: GSRI_2.54.0.zip PackageFileSize: 541 KiB