Package: GSRI Version: 2.54.0 Command: chmod a+r GSRI -R && F:\biocbuild\bbs-3.20-bioc\R\bin\R.exe CMD build --keep-empty-dirs --no-resave-data GSRI StartedAt: 2025-02-03 19:37:59 -0500 (Mon, 03 Feb 2025) EndedAt: 2025-02-03 19:38:54 -0500 (Mon, 03 Feb 2025) EllapsedTime: 54.5 seconds RetCode: 0 Status: OK PackageFile: GSRI_2.54.0.tar.gz PackageFileSize: 208.3 KiB