Package: GSRI Version: 2.54.0 Command: F:\biocbuild\bbs-3.20-bioc\R\bin\R.exe CMD INSTALL GSRI StartedAt: 2025-02-03 16:09:39 -0500 (Mon, 03 Feb 2025) EndedAt: 2025-02-03 16:10:12 -0500 (Mon, 03 Feb 2025) EllapsedTime: 33.1 seconds RetCode: 0 Status: OK