Package: GSRI Version: 2.54.0 Command: /home/biocbuild/R/R/bin/R CMD build --keep-empty-dirs --no-resave-data GSRI StartedAt: 2025-02-04 00:10:17 -0000 (Tue, 04 Feb 2025) EndedAt: 2025-02-04 00:11:05 -0000 (Tue, 04 Feb 2025) EllapsedTime: 48.1 seconds RetCode: 0 Status: OK PackageFile: GSRI_2.54.0.tar.gz PackageFileSize: 324.9 KiB