Package: GSReg Version: 1.40.0 Command: /Library/Frameworks/R.framework/Resources/bin/R CMD build --keep-empty-dirs --no-resave-data GSReg StartedAt: 2025-01-31 01:07:13 -0500 (Fri, 31 Jan 2025) EndedAt: 2025-01-31 01:08:53 -0500 (Fri, 31 Jan 2025) EllapsedTime: 100.4 seconds RetCode: 0 Status: OK PackageFile: GSReg_1.40.0.tar.gz PackageFileSize: 466.4 KiB