Package: GSReg Version: 1.40.0 Command: /Library/Frameworks/R.framework/Resources/bin/R CMD INSTALL GSReg StartedAt: 2025-01-30 16:30:19 -0500 (Thu, 30 Jan 2025) EndedAt: 2025-01-30 16:31:07 -0500 (Thu, 30 Jan 2025) EllapsedTime: 48.7 seconds RetCode: 0 Status: OK