Package: GSReg Version: 1.40.0 Command: /home/biocbuild/bbs-3.20-bioc/R/bin/R CMD build --keep-empty-dirs --no-resave-data --md5 GSReg StartedAt: 2025-01-30 17:34:06 -0500 (Thu, 30 Jan 2025) EndedAt: 2025-01-30 17:35:33 -0500 (Thu, 30 Jan 2025) EllapsedTime: 87.1 seconds RetCode: 0 Status: OK PackageFile: GSReg_1.40.0.tar.gz PackageFileSize: 467.5 KiB