Package: GSReg Version: 1.40.0 Command: /home/biocbuild/bbs-3.20-bioc/R/bin/R CMD check --install=check:GSReg.install-out.txt --library=/home/biocbuild/bbs-3.20-bioc/R/site-library --timings GSReg_1.40.0.tar.gz StartedAt: 2025-01-30 22:51:07 -0500 (Thu, 30 Jan 2025) EndedAt: 2025-01-30 22:55:06 -0500 (Thu, 30 Jan 2025) EllapsedTime: 238.4 seconds RetCode: 0 Status: WARNINGS CheckDir: GSReg.Rcheck Warnings: 3