Package: GSReg Version: 1.40.0 Command: F:\biocbuild\bbs-3.20-bioc\R\bin\R.exe CMD INSTALL GSReg StartedAt: 2025-01-30 16:18:19 -0500 (Thu, 30 Jan 2025) EndedAt: 2025-01-30 16:19:16 -0500 (Thu, 30 Jan 2025) EllapsedTime: 56.3 seconds RetCode: 0 Status: OK