Package: GSReg Version: 1.40.0 Command: /home/biocbuild/R/R/bin/R CMD INSTALL GSReg StartedAt: 2025-01-30 20:36:48 -0000 (Thu, 30 Jan 2025) EndedAt: 2025-01-30 20:37:36 -0000 (Thu, 30 Jan 2025) EllapsedTime: 48.2 seconds RetCode: 0 Status: OK