Package: GSVA Version: 2.0.5 Command: /Library/Frameworks/R.framework/Resources/bin/R CMD check --install=check:GSVA.install-out.txt --library=/Library/Frameworks/R.framework/Resources/library --no-vignettes --timings GSVA_2.0.5.tar.gz StartedAt: 2025-02-04 22:02:05 -0500 (Tue, 04 Feb 2025) EndedAt: 2025-02-04 22:12:05 -0500 (Tue, 04 Feb 2025) EllapsedTime: 599.7 seconds RetCode: 0 Status: OK CheckDir: GSVA.Rcheck Warnings: 0