##############################################################################
##############################################################################
###
### Running command:
###
###   /home/biocbuild/R/R/bin/R CMD INSTALL GSVA
###
##############################################################################
##############################################################################


* installing to library ‘/home/biocbuild/R/R-4.4.1/site-library’
* installing *source* package ‘GSVA’ ...
** using staged installation
** libs
using C compiler: ‘gcc (conda-forge gcc 14.2.0-1) 14.2.0’
gcc -I"/home/biocbuild/R/R-4.4.1/include" -DNDEBUG  -I'/home/biocbuild/R/R-4.4.1/site-library/cli/include' -I/usr/local/include    -fPIC  -g -O2  -Wall -c ecdfvals.c -o ecdfvals.o
gcc -I"/home/biocbuild/R/R-4.4.1/include" -DNDEBUG  -I'/home/biocbuild/R/R-4.4.1/site-library/cli/include' -I/usr/local/include    -fPIC  -g -O2  -Wall -c kcdfvals.c -o kcdfvals.o
gcc -I"/home/biocbuild/R/R-4.4.1/include" -DNDEBUG  -I'/home/biocbuild/R/R-4.4.1/site-library/cli/include' -I/usr/local/include    -fPIC  -g -O2  -Wall -c kernel_estimation.c -o kernel_estimation.o
gcc -I"/home/biocbuild/R/R-4.4.1/include" -DNDEBUG  -I'/home/biocbuild/R/R-4.4.1/site-library/cli/include' -I/usr/local/include    -fPIC  -g -O2  -Wall -c ks_test.c -o ks_test.o
gcc -I"/home/biocbuild/R/R-4.4.1/include" -DNDEBUG  -I'/home/biocbuild/R/R-4.4.1/site-library/cli/include' -I/usr/local/include    -fPIC  -g -O2  -Wall -c register_cmethods.c -o register_cmethods.o
gcc -I"/home/biocbuild/R/R-4.4.1/include" -DNDEBUG  -I'/home/biocbuild/R/R-4.4.1/site-library/cli/include' -I/usr/local/include    -fPIC  -g -O2  -Wall -c utils.c -o utils.o
gcc -shared -L/home/biocbuild/R/R-4.4.1/lib -L/usr/local/lib -o GSVA.so ecdfvals.o kcdfvals.o kernel_estimation.o ks_test.o register_cmethods.o utils.o -L/home/biocbuild/R/R-4.4.1/lib -lR
installing to /home/biocbuild/R/R-4.4.1/site-library/00LOCK-GSVA/00new/GSVA/libs
** R
** inst
** byte-compile and prepare package for lazy loading
** help
*** installing help indices
** building package indices
** installing vignettes
** testing if installed package can be loaded from temporary location
** checking absolute paths in shared objects and dynamic libraries
** testing if installed package can be loaded from final location
** testing if installed package keeps a record of temporary installation path
* DONE (GSVA)