Package: GSVA Version: 2.0.5 Command: rm -rf GSVA.buildbin-libdir && mkdir GSVA.buildbin-libdir && /Users/biocbuild/BBS/utils/build-universal.sh GSVA_2.0.5.tar.gz /Library/Frameworks/R.framework/Resources/bin/R GSVA.buildbin-libdir StartedAt: 2025-02-04 13:07:04 -0500 (Tue, 04 Feb 2025) EndedAt: 2025-02-04 13:08:45 -0500 (Tue, 04 Feb 2025) EllapsedTime: 100.9 seconds RetCode: 0 Status: OK PackageFile: GSVA_2.0.5.tgz PackageFileSize: 2.258 MiB